BEGIN:VCALENDAR
VERSION:2.0
PRODID:https://www.kufer.de/kuferweb / DE
METHOD:PUBLISH
CALSCALE:GREGORIAN
X-WR-TIMEZONE:Europe/Berlin
BEGIN:VTIMEZONE
TZID:Europe/Berlin
X-LIC-LOCATION:Europe/Berlin
BEGIN:DAYLIGHT
TZOFFSETFROM:+0100
TZOFFSETTO:+0200
TZNAME:CEST
DTSTART:19700329T020000
RRULE:FREQ=YEARLY;INTERVAL=1;BYDAY=-1SU;BYMONTH=3
END:DAYLIGHT
BEGIN:STANDARD
TZOFFSETFROM:+0200
TZOFFSETTO:+0100
TZNAME:CET
DTSTART:19701025T030000
RRULE:FREQ=YEARLY;INTERVAL=1;BYDAY=-1SU;BYMONTH=10
END:STANDARD
END:VTIMEZONE
BEGIN:VEVENT
DTSTAMP:20260425T165058
DTSTART;TZID=Europe/Berlin:20260516T200000
DTEND;TZID=Europe/Berlin:20260516T223000
UID:261-K-702-20260516T200000@VHSSCHROBENHAUSEN E.V.
SUMMARY:Konzerte im Pavillon: Michael Faust, Flöte, und Sheila Arnold, Klavier (261-K-702) 
LOCATION:Musikpavillon Schrobenhausen, Regensburger Str. 11, 86529 Schrobenhausen
END:VEVENT
BEGIN:VEVENT
DTSTAMP:20260425T165058
DTSTART;TZID=Europe/Berlin:20260919T200000
DTEND;TZID=Europe/Berlin:20260919T223000
UID:261-K-703-20260919T200000@VHSSCHROBENHAUSEN E.V.
SUMMARY:Konzerte im Pavillon: KlangZeit (261-K-703) 
LOCATION:Musikpavillon Schrobenhausen, Regensburger Str. 11, 86529 Schrobenhausen
END:VEVENT
BEGIN:VEVENT
DTSTAMP:20260425T165058
DTSTART;TZID=Europe/Berlin:20261031T200000
DTEND;TZID=Europe/Berlin:20261031T223000
UID:261-K-704-20261031T200000@VHSSCHROBENHAUSEN E.V.
SUMMARY:Konzerte im Pavillon: Ikigai Trio – Preisträgerkonzert (261-K-704) 
LOCATION:Musikpavillon Schrobenhausen, Regensburger Str. 11, 86529 Schrobenhausen
END:VEVENT
END:VCALENDAR